Package: synlet Version: 2.0.0 Command: rm -rf synlet.buildbin-libdir && mkdir synlet.buildbin-libdir && F:\biocbuild\bbs-3.17-bioc\R\bin\R.exe CMD INSTALL --build --library=synlet.buildbin-libdir synlet_2.0.0.tar.gz StartedAt: 2023-10-16 09:38:04 -0400 (Mon, 16 Oct 2023) EndedAt: 2023-10-16 09:38:19 -0400 (Mon, 16 Oct 2023) EllapsedTime: 14.9 seconds RetCode: 0 Status: OK PackageFile: synlet_2.0.0.zip PackageFileSize: 656.5 KiB