Package: synlet Version: 2.0.0 Command: /home/biocbuild/bbs-3.17-bioc/R/bin/R CMD build --keep-empty-dirs --no-resave-data synlet StartedAt: 2023-10-15 18:45:39 -0400 (Sun, 15 Oct 2023) EndedAt: 2023-10-15 18:46:04 -0400 (Sun, 15 Oct 2023) EllapsedTime: 24.9 seconds RetCode: 0 Status: OK PackageFile: synlet_2.0.0.tar.gz PackageFileSize: 1.121 MiB