Package: synlet Version: 2.0.0 Command: /Library/Frameworks/R.framework/Resources/bin/R CMD INSTALL synlet StartedAt: 2023-10-15 15:18:50 -0400 (Sun, 15 Oct 2023) EndedAt: 2023-10-15 15:19:21 -0400 (Sun, 15 Oct 2023) EllapsedTime: 31.1 seconds RetCode: 0 Status: OK