Package: synergyfinder Version: 3.8.2 Command: chmod a+r synergyfinder -R && F:\biocbuild\bbs-3.17-bioc\R\bin\R.exe CMD build --keep-empty-dirs --no-resave-data synergyfinder StartedAt: 2023-10-15 22:45:58 -0400 (Sun, 15 Oct 2023) EndedAt: 2023-10-15 22:47:35 -0400 (Sun, 15 Oct 2023) EllapsedTime: 97.6 seconds RetCode: 0 Status: OK PackageFile: synergyfinder_3.8.2.tar.gz PackageFileSize: 6.043 MiB