Package: synapter Version: 2.24.0 Command: /Library/Frameworks/R.framework/Resources/bin/R CMD INSTALL synapter StartedAt: 2023-10-15 16:07:47 -0400 (Sun, 15 Oct 2023) EndedAt: 2023-10-15 16:09:55 -0400 (Sun, 15 Oct 2023) EllapsedTime: 128.0 seconds RetCode: 0 Status: OK