Package: synapter Version: 2.24.0 Command: /Library/Frameworks/R.framework/Resources/bin/R CMD build --keep-empty-dirs --no-resave-data synapter StartedAt: 2023-10-15 21:47:54 -0400 (Sun, 15 Oct 2023) EndedAt: 2023-10-15 22:03:35 -0400 (Sun, 15 Oct 2023) EllapsedTime: 940.6 seconds RetCode: 0 Status: OK PackageFile: synapter_2.24.0.tar.gz PackageFileSize: 4.268 MiB