Package: synapter Version: 2.24.0 Command: rm -rf synapter.buildbin-libdir && mkdir synapter.buildbin-libdir && /Users/biocbuild/BBS/utils/build-universal.sh synapter_2.24.0.tar.gz /Library/Frameworks/R.framework/Resources/bin/R synapter.buildbin-libdir StartedAt: 2023-10-16 10:19:50 -0400 (Mon, 16 Oct 2023) EndedAt: 2023-10-16 10:22:02 -0400 (Mon, 16 Oct 2023) EllapsedTime: 132.2 seconds RetCode: 0 Status: OK PackageFile: synapter_2.24.0.tgz PackageFileSize: 4.976 MiB