Package: synapsis Version: 1.6.0 Command: rm -rf synapsis.buildbin-libdir && mkdir synapsis.buildbin-libdir && F:\biocbuild\bbs-3.17-bioc\R\bin\R.exe CMD INSTALL --build --library=synapsis.buildbin-libdir synapsis_1.6.0.tar.gz StartedAt: 2023-10-16 09:37:53 -0400 (Mon, 16 Oct 2023) EndedAt: 2023-10-16 09:38:05 -0400 (Mon, 16 Oct 2023) EllapsedTime: 12.3 seconds RetCode: 0 Status: OK PackageFile: synapsis_1.6.0.zip PackageFileSize: 3.784 MiB