Package: synapsis Version: 1.6.0 Command: /home/biocbuild/bbs-3.17-bioc/R/bin/R CMD check --install=check:synapsis.install-out.txt --library=/home/biocbuild/bbs-3.17-bioc/R/site-library --timings synapsis_1.6.0.tar.gz StartedAt: 2023-10-16 01:37:14 -0400 (Mon, 16 Oct 2023) EndedAt: 2023-10-16 01:38:02 -0400 (Mon, 16 Oct 2023) EllapsedTime: 48.0 seconds RetCode: 0 Status: OK CheckDir: synapsis.Rcheck Warnings: 0