Package: synapsis Version: 1.6.0 Command: /Library/Frameworks/R.framework/Resources/bin/R CMD build --keep-empty-dirs --no-resave-data synapsis StartedAt: 2023-10-15 21:47:52 -0400 (Sun, 15 Oct 2023) EndedAt: 2023-10-15 21:48:55 -0400 (Sun, 15 Oct 2023) EllapsedTime: 63.0 seconds RetCode: 0 Status: OK PackageFile: synapsis_1.6.0.tar.gz PackageFileSize: 3.448 MiB