Package: switchde Version: 1.26.0 Command: rm -rf switchde.buildbin-libdir && mkdir switchde.buildbin-libdir && F:\biocbuild\bbs-3.17-bioc\R\bin\R.exe CMD INSTALL --build --library=switchde.buildbin-libdir switchde_1.26.0.tar.gz StartedAt: 2023-10-16 09:37:50 -0400 (Mon, 16 Oct 2023) EndedAt: 2023-10-16 09:38:25 -0400 (Mon, 16 Oct 2023) EllapsedTime: 34.5 seconds RetCode: 0 Status: OK PackageFile: switchde_1.26.0.zip PackageFileSize: 534.8 KiB