Package: switchde Version: 1.26.0 Command: /home/biocbuild/bbs-3.17-bioc/R/bin/R CMD check --install=check:switchde.install-out.txt --library=/home/biocbuild/bbs-3.17-bioc/R/site-library --timings switchde_1.26.0.tar.gz StartedAt: 2023-10-16 01:36:49 -0400 (Mon, 16 Oct 2023) EndedAt: 2023-10-16 01:39:52 -0400 (Mon, 16 Oct 2023) EllapsedTime: 183.0 seconds RetCode: 0 Status: OK CheckDir: switchde.Rcheck Warnings: 0