Package: switchde Version: 1.26.0 Command: /Library/Frameworks/R.framework/Resources/bin/R CMD build --keep-empty-dirs --no-resave-data switchde StartedAt: 2023-10-15 21:47:39 -0400 (Sun, 15 Oct 2023) EndedAt: 2023-10-15 21:49:13 -0400 (Sun, 15 Oct 2023) EllapsedTime: 94.1 seconds RetCode: 0 Status: OK PackageFile: switchde_1.26.0.tar.gz PackageFileSize: 976 KiB