Package: swfdr Version: 1.26.0 Command: /home/biocbuild/bbs-3.17-bioc/R/bin/R CMD INSTALL swfdr StartedAt: 2023-10-15 15:08:44 -0400 (Sun, 15 Oct 2023) EndedAt: 2023-10-15 15:08:59 -0400 (Sun, 15 Oct 2023) EllapsedTime: 15.2 seconds RetCode: 0 Status: OK