Package: swfdr Version: 1.26.0 Command: /home/biocbuild/bbs-3.17-bioc/R/bin/R CMD build --keep-empty-dirs --no-resave-data swfdr StartedAt: 2023-10-15 18:45:11 -0400 (Sun, 15 Oct 2023) EndedAt: 2023-10-15 18:45:58 -0400 (Sun, 15 Oct 2023) EllapsedTime: 46.4 seconds RetCode: 0 Status: OK PackageFile: swfdr_1.26.0.tar.gz PackageFileSize: 1.204 MiB