Package: svaRetro Version: 1.6.0 Command: /Library/Frameworks/R.framework/Resources/bin/R CMD build --keep-empty-dirs --no-resave-data svaRetro StartedAt: 2023-10-15 21:46:48 -0400 (Sun, 15 Oct 2023) EndedAt: 2023-10-15 21:49:45 -0400 (Sun, 15 Oct 2023) EllapsedTime: 176.6 seconds RetCode: 0 Status: OK PackageFile: svaRetro_1.6.0.tar.gz PackageFileSize: 1.533 MiB