Package: svaNUMT Version: 1.6.0 Command: F:\biocbuild\bbs-3.17-bioc\R\bin\R.exe CMD check --no-multiarch --install=check:svaNUMT.install-out.txt --library=F:\biocbuild\bbs-3.17-bioc\R\library --no-vignettes --timings svaNUMT_1.6.0.tar.gz StartedAt: 2023-10-16 07:28:15 -0400 (Mon, 16 Oct 2023) EndedAt: 2023-10-16 07:33:15 -0400 (Mon, 16 Oct 2023) EllapsedTime: 299.7 seconds RetCode: 0 Status: OK CheckDir: svaNUMT.Rcheck Warnings: 0