Package: svaNUMT Version: 1.6.0 Command: chmod a+r svaNUMT -R && F:\biocbuild\bbs-3.17-bioc\R\bin\R.exe CMD build --keep-empty-dirs --no-resave-data svaNUMT StartedAt: 2023-10-15 22:45:02 -0400 (Sun, 15 Oct 2023) EndedAt: 2023-10-15 22:46:19 -0400 (Sun, 15 Oct 2023) EllapsedTime: 76.9 seconds RetCode: 0 Status: OK PackageFile: svaNUMT_1.6.0.tar.gz PackageFileSize: 700.5 KiB