Package: svaNUMT Version: 1.6.0 Command: /home/biocbuild/bbs-3.17-bioc/R/bin/R CMD check --install=check:svaNUMT.install-out.txt --library=/home/biocbuild/bbs-3.17-bioc/R/site-library --timings svaNUMT_1.6.0.tar.gz StartedAt: 2023-10-16 01:35:52 -0400 (Mon, 16 Oct 2023) EndedAt: 2023-10-16 01:41:34 -0400 (Mon, 16 Oct 2023) EllapsedTime: 342.2 seconds RetCode: 0 Status: OK CheckDir: svaNUMT.Rcheck Warnings: 0