Package: svaNUMT Version: 1.6.0 Command: /Library/Frameworks/R.framework/Resources/bin/R CMD check --install=check:svaNUMT.install-out.txt --library=/Library/Frameworks/R.framework/Resources/library --no-vignettes --timings svaNUMT_1.6.0.tar.gz StartedAt: 2023-10-16 07:48:52 -0400 (Mon, 16 Oct 2023) EndedAt: 2023-10-16 08:01:35 -0400 (Mon, 16 Oct 2023) EllapsedTime: 762.6 seconds RetCode: 0 Status: OK CheckDir: svaNUMT.Rcheck Warnings: 0