Package: svaNUMT Version: 1.6.0 Command: /Library/Frameworks/R.framework/Resources/bin/R CMD build --keep-empty-dirs --no-resave-data svaNUMT StartedAt: 2023-10-15 21:46:47 -0400 (Sun, 15 Oct 2023) EndedAt: 2023-10-15 21:49:41 -0400 (Sun, 15 Oct 2023) EllapsedTime: 174.3 seconds RetCode: 0 Status: OK PackageFile: svaNUMT_1.6.0.tar.gz PackageFileSize: 734.1 KiB