Package: sva Version: 3.48.0 Command: /home/biocbuild/bbs-3.17-bioc/R/bin/R CMD INSTALL sva StartedAt: 2023-10-15 15:35:06 -0400 (Sun, 15 Oct 2023) EndedAt: 2023-10-15 15:35:27 -0400 (Sun, 15 Oct 2023) EllapsedTime: 21.0 seconds RetCode: 0 Status: OK