Package: sva Version: 3.48.0 Command: /home/biocbuild/bbs-3.17-bioc/R/bin/R CMD build --keep-empty-dirs --no-resave-data sva StartedAt: 2023-10-15 18:44:44 -0400 (Sun, 15 Oct 2023) EndedAt: 2023-10-15 18:45:41 -0400 (Sun, 15 Oct 2023) EllapsedTime: 57.0 seconds RetCode: 0 Status: OK PackageFile: sva_3.48.0.tar.gz PackageFileSize: 442.5 KiB