Package: sva Version: 3.48.0 Command: /Library/Frameworks/R.framework/Resources/bin/R CMD check --install=check:sva.install-out.txt --library=/Library/Frameworks/R.framework/Resources/library --no-vignettes --timings sva_3.48.0.tar.gz StartedAt: 2023-10-16 07:48:33 -0400 (Mon, 16 Oct 2023) EndedAt: 2023-10-16 07:58:16 -0400 (Mon, 16 Oct 2023) EllapsedTime: 582.8 seconds RetCode: 0 Status: OK CheckDir: sva.Rcheck Warnings: 0