Package: sva Version: 3.48.0 Command: /Library/Frameworks/R.framework/Resources/bin/R CMD build --keep-empty-dirs --no-resave-data sva StartedAt: 2023-10-15 21:46:30 -0400 (Sun, 15 Oct 2023) EndedAt: 2023-10-15 21:48:59 -0400 (Sun, 15 Oct 2023) EllapsedTime: 148.8 seconds RetCode: 0 Status: OK PackageFile: sva_3.48.0.tar.gz PackageFileSize: 442.2 KiB