Package: sva Version: 3.48.0 Command: rm -rf sva.buildbin-libdir && mkdir sva.buildbin-libdir && /Users/biocbuild/BBS/utils/build-universal.sh sva_3.48.0.tar.gz /Library/Frameworks/R.framework/Resources/bin/R sva.buildbin-libdir StartedAt: 2023-10-16 10:19:25 -0400 (Mon, 16 Oct 2023) EndedAt: 2023-10-16 10:20:38 -0400 (Mon, 16 Oct 2023) EllapsedTime: 72.7 seconds RetCode: 0 Status: OK PackageFile: sva_3.48.0.tgz PackageFileSize: 525.6 KiB