Package: survcomp Version: 1.50.0 Command: F:\biocbuild\bbs-3.17-bioc\R\bin\R.exe CMD INSTALL survcomp StartedAt: 2023-10-15 16:59:43 -0400 (Sun, 15 Oct 2023) EndedAt: 2023-10-15 17:00:03 -0400 (Sun, 15 Oct 2023) EllapsedTime: 20.1 seconds RetCode: 0 Status: OK