Package: survcomp Version: 1.50.0 Command: rm -rf survcomp.buildbin-libdir && mkdir survcomp.buildbin-libdir && F:\biocbuild\bbs-3.17-bioc\R\bin\R.exe CMD INSTALL --build --library=survcomp.buildbin-libdir survcomp_1.50.0.tar.gz StartedAt: 2023-10-16 09:37:27 -0400 (Mon, 16 Oct 2023) EndedAt: 2023-10-16 09:37:46 -0400 (Mon, 16 Oct 2023) EllapsedTime: 19.6 seconds RetCode: 0 Status: OK PackageFile: survcomp_1.50.0.zip PackageFileSize: 1.073 MiB