Package: surfaltr Version: 1.6.0 Command: F:\biocbuild\bbs-3.17-bioc\R\bin\R.exe CMD check --no-multiarch --install=check:surfaltr.install-out.txt --library=F:\biocbuild\bbs-3.17-bioc\R\library --no-vignettes --timings surfaltr_1.6.0.tar.gz StartedAt: 2023-10-16 07:27:00 -0400 (Mon, 16 Oct 2023) EndedAt: 2023-10-16 07:29:02 -0400 (Mon, 16 Oct 2023) EllapsedTime: 122.1 seconds RetCode: 0 Status: OK CheckDir: surfaltr.Rcheck Warnings: 0