Package: surfaltr Version: 1.6.0 Command: /home/biocbuild/bbs-3.17-bioc/R/bin/R CMD INSTALL surfaltr StartedAt: 2023-10-15 15:32:28 -0400 (Sun, 15 Oct 2023) EndedAt: 2023-10-15 15:32:46 -0400 (Sun, 15 Oct 2023) EllapsedTime: 18.0 seconds RetCode: 0 Status: OK