Package: surfaltr Version: 1.6.0 Command: /Library/Frameworks/R.framework/Resources/bin/R CMD INSTALL surfaltr StartedAt: 2023-10-15 15:52:10 -0400 (Sun, 15 Oct 2023) EndedAt: 2023-10-15 15:53:11 -0400 (Sun, 15 Oct 2023) EllapsedTime: 60.9 seconds RetCode: 0 Status: OK