Package: surfaltr Version: 1.6.0 Command: /Library/Frameworks/R.framework/Resources/bin/R CMD build --keep-empty-dirs --no-resave-data surfaltr StartedAt: 2023-10-15 21:45:57 -0400 (Sun, 15 Oct 2023) EndedAt: 2023-10-15 21:47:14 -0400 (Sun, 15 Oct 2023) EllapsedTime: 76.9 seconds RetCode: 0 Status: OK PackageFile: surfaltr_1.6.0.tar.gz PackageFileSize: 3.051 MiB