Package: surfaltr Version: 1.6.0 Command: rm -rf surfaltr.buildbin-libdir && mkdir surfaltr.buildbin-libdir && /Users/biocbuild/BBS/utils/build-universal.sh surfaltr_1.6.0.tar.gz /Library/Frameworks/R.framework/Resources/bin/R surfaltr.buildbin-libdir StartedAt: 2023-10-16 10:19:20 -0400 (Mon, 16 Oct 2023) EndedAt: 2023-10-16 10:20:24 -0400 (Mon, 16 Oct 2023) EllapsedTime: 63.7 seconds RetCode: 0 Status: OK PackageFile: surfaltr_1.6.0.tgz PackageFileSize: 1.84 MiB