Package: supersigs Version: 1.8.0 Command: chmod a+r supersigs -R && F:\biocbuild\bbs-3.17-bioc\R\bin\R.exe CMD build --keep-empty-dirs --no-resave-data supersigs StartedAt: 2023-10-15 22:44:07 -0400 (Sun, 15 Oct 2023) EndedAt: 2023-10-15 22:45:20 -0400 (Sun, 15 Oct 2023) EllapsedTime: 72.7 seconds RetCode: 0 Status: OK PackageFile: supersigs_1.8.0.tar.gz PackageFileSize: 2.587 MiB