Package: supersigs Version: 1.8.0 Command: /Library/Frameworks/R.framework/Resources/bin/R CMD build --keep-empty-dirs --no-resave-data supersigs StartedAt: 2023-10-15 21:45:52 -0400 (Sun, 15 Oct 2023) EndedAt: 2023-10-15 21:48:40 -0400 (Sun, 15 Oct 2023) EllapsedTime: 167.9 seconds RetCode: 0 Status: OK PackageFile: supersigs_1.8.0.tar.gz PackageFileSize: 2.588 MiB