git_url: https://git.bioconductor.org/packages/subSeq git_branch: RELEASE_3_17 git_last_commit: c3cc175 git_last_commit_date: 2023-04-25 10:42:33 -0400 (Tue, 25 Apr 2023) Package: subSeq Version: 1.30.0 Maintainer: Andrew J. Bass , John D. Storey MaintainerEmail: jstorey at princeton.edu