Package: structToolbox Version: 1.12.3 Command: chmod a+r structToolbox -R && F:\biocbuild\bbs-3.17-bioc\R\bin\R.exe CMD build --keep-empty-dirs --no-resave-data structToolbox StartedAt: 2023-10-15 22:43:20 -0400 (Sun, 15 Oct 2023) EndedAt: 2023-10-15 22:54:52 -0400 (Sun, 15 Oct 2023) EllapsedTime: 691.5 seconds RetCode: 0 Status: OK PackageFile: structToolbox_1.12.3.tar.gz PackageFileSize: 3.409 MiB