Package: structToolbox Version: 1.12.3 Command: /home/biocbuild/bbs-3.17-bioc/R/bin/R CMD INSTALL structToolbox StartedAt: 2023-10-15 15:14:33 -0400 (Sun, 15 Oct 2023) EndedAt: 2023-10-15 15:15:08 -0400 (Sun, 15 Oct 2023) EllapsedTime: 35.9 seconds RetCode: 0 Status: OK