Package: structToolbox Version: 1.12.3 Command: /home/biocbuild/bbs-3.17-bioc/R/bin/R CMD check --install=check:structToolbox.install-out.txt --library=/home/biocbuild/bbs-3.17-bioc/R/site-library --timings structToolbox_1.12.3.tar.gz StartedAt: 2023-10-16 01:33:15 -0400 (Mon, 16 Oct 2023) EndedAt: 2023-10-16 01:51:31 -0400 (Mon, 16 Oct 2023) EllapsedTime: 1095.6 seconds RetCode: 0 Status: OK CheckDir: structToolbox.Rcheck Warnings: 0