Package: structToolbox Version: 1.12.3 Command: /home/biocbuild/bbs-3.17-bioc/R/bin/R CMD build --keep-empty-dirs --no-resave-data structToolbox StartedAt: 2023-10-15 18:43:39 -0400 (Sun, 15 Oct 2023) EndedAt: 2023-10-15 18:54:42 -0400 (Sun, 15 Oct 2023) EllapsedTime: 662.4 seconds RetCode: 0 Status: OK PackageFile: structToolbox_1.12.3.tar.gz PackageFileSize: 4.578 MiB