Package: structToolbox Version: 1.12.3 Command: /Library/Frameworks/R.framework/Resources/bin/R CMD INSTALL structToolbox StartedAt: 2023-10-15 15:14:47 -0400 (Sun, 15 Oct 2023) EndedAt: 2023-10-15 15:16:49 -0400 (Sun, 15 Oct 2023) EllapsedTime: 122.3 seconds RetCode: 0 Status: OK