Package: structToolbox Version: 1.12.3 Command: /Library/Frameworks/R.framework/Resources/bin/R CMD build --keep-empty-dirs --no-resave-data structToolbox StartedAt: 2023-10-15 21:44:31 -0400 (Sun, 15 Oct 2023) EndedAt: 2023-10-15 22:13:28 -0400 (Sun, 15 Oct 2023) EllapsedTime: 1737.6 seconds RetCode: 0 Status: OK PackageFile: structToolbox_1.12.3.tar.gz PackageFileSize: 4.65 MiB