Package: structToolbox Version: 1.12.3 Command: rm -rf structToolbox.buildbin-libdir && mkdir structToolbox.buildbin-libdir && /Users/biocbuild/BBS/utils/build-universal.sh structToolbox_1.12.3.tar.gz /Library/Frameworks/R.framework/Resources/bin/R structToolbox.buildbin-libdir StartedAt: 2023-10-16 10:19:03 -0400 (Mon, 16 Oct 2023) EndedAt: 2023-10-16 10:21:16 -0400 (Mon, 16 Oct 2023) EllapsedTime: 132.6 seconds RetCode: 0 Status: OK PackageFile: structToolbox_1.12.3.tgz PackageFileSize: 5.443 MiB