Package: strandCheckR Version: 1.18.0 Command: F:\biocbuild\bbs-3.17-bioc\R\bin\R.exe CMD check --no-multiarch --install=check:strandCheckR.install-out.txt --library=F:\biocbuild\bbs-3.17-bioc\R\library --no-vignettes --timings strandCheckR_1.18.0.tar.gz StartedAt: 2023-10-16 07:22:58 -0400 (Mon, 16 Oct 2023) EndedAt: 2023-10-16 07:27:29 -0400 (Mon, 16 Oct 2023) EllapsedTime: 270.1 seconds RetCode: 0 Status: OK CheckDir: strandCheckR.Rcheck Warnings: 0