Package: strandCheckR Version: 1.18.0 Command: rm -rf strandCheckR.buildbin-libdir && mkdir strandCheckR.buildbin-libdir && F:\biocbuild\bbs-3.17-bioc\R\bin\R.exe CMD INSTALL --build --library=strandCheckR.buildbin-libdir strandCheckR_1.18.0.tar.gz StartedAt: 2023-10-16 09:36:55 -0400 (Mon, 16 Oct 2023) EndedAt: 2023-10-16 09:37:39 -0400 (Mon, 16 Oct 2023) EllapsedTime: 44.2 seconds RetCode: 0 Status: OK PackageFile: strandCheckR_1.18.0.zip PackageFileSize: 933.7 KiB