Package: strandCheckR Version: 1.18.0 Command: /home/biocbuild/bbs-3.17-bioc/R/bin/R CMD check --install=check:strandCheckR.install-out.txt --library=/home/biocbuild/bbs-3.17-bioc/R/site-library --timings strandCheckR_1.18.0.tar.gz StartedAt: 2023-10-16 01:31:59 -0400 (Mon, 16 Oct 2023) EndedAt: 2023-10-16 01:36:49 -0400 (Mon, 16 Oct 2023) EllapsedTime: 289.5 seconds RetCode: 0 Status: OK CheckDir: strandCheckR.Rcheck Warnings: 0