Package: strandCheckR Version: 1.18.0 Command: /Library/Frameworks/R.framework/Resources/bin/R CMD INSTALL strandCheckR StartedAt: 2023-10-15 15:44:15 -0400 (Sun, 15 Oct 2023) EndedAt: 2023-10-15 15:46:10 -0400 (Sun, 15 Oct 2023) EllapsedTime: 115.0 seconds RetCode: 0 Status: OK