Package: strandCheckR Version: 1.18.0 Command: /Library/Frameworks/R.framework/Resources/bin/R CMD build --keep-empty-dirs --no-resave-data strandCheckR StartedAt: 2023-10-15 21:44:01 -0400 (Sun, 15 Oct 2023) EndedAt: 2023-10-15 21:46:30 -0400 (Sun, 15 Oct 2023) EllapsedTime: 149.4 seconds RetCode: 0 Status: OK PackageFile: strandCheckR_1.18.0.tar.gz PackageFileSize: 1.154 MiB