Package: strandCheckR Version: 1.18.0 Command: rm -rf strandCheckR.buildbin-libdir && mkdir strandCheckR.buildbin-libdir && /Users/biocbuild/BBS/utils/build-universal.sh strandCheckR_1.18.0.tar.gz /Library/Frameworks/R.framework/Resources/bin/R strandCheckR.buildbin-libdir StartedAt: 2023-10-16 10:18:44 -0400 (Mon, 16 Oct 2023) EndedAt: 2023-10-16 10:20:39 -0400 (Mon, 16 Oct 2023) EllapsedTime: 115.1 seconds RetCode: 0 Status: OK PackageFile: strandCheckR_1.18.0.tgz PackageFileSize: 1.235 MiB