Package: stepNorm Version: 1.72.0 Command: /home/biocbuild/bbs-3.17-bioc/R/bin/R CMD build --keep-empty-dirs --no-resave-data stepNorm StartedAt: 2023-10-15 18:42:48 -0400 (Sun, 15 Oct 2023) EndedAt: 2023-10-15 18:42:49 -0400 (Sun, 15 Oct 2023) EllapsedTime: 1.0 seconds RetCode: 0 Status: OK PackageFile: stepNorm_1.72.0.tar.gz PackageFileSize: 460.1 KiB